BEGIN:VCALENDAR
VERSION:2.0
PRODID:-//Oveja Negra Ramblas - ECPv6.15.20//NONSGML v1.0//EN
CALSCALE:GREGORIAN
METHOD:PUBLISH
X-WR-CALNAME:Oveja Negra Ramblas
X-ORIGINAL-URL:https://ovellanegraramblas.com/ca/
X-WR-CALDESC:Esdeveniments per Oveja Negra Ramblas
REFRESH-INTERVAL;VALUE=DURATION:PT1H
X-Robots-Tag:noindex
X-PUBLISHED-TTL:PT1H
BEGIN:VTIMEZONE
TZID:Europe/Paris
BEGIN:DAYLIGHT
TZOFFSETFROM:+0100
TZOFFSETTO:+0200
TZNAME:CEST
DTSTART:20240331T010000
END:DAYLIGHT
BEGIN:STANDARD
TZOFFSETFROM:+0200
TZOFFSETTO:+0100
TZNAME:CET
DTSTART:20241027T010000
END:STANDARD
BEGIN:DAYLIGHT
TZOFFSETFROM:+0100
TZOFFSETTO:+0200
TZNAME:CEST
DTSTART:20250330T010000
END:DAYLIGHT
BEGIN:STANDARD
TZOFFSETFROM:+0200
TZOFFSETTO:+0100
TZNAME:CET
DTSTART:20251026T010000
END:STANDARD
BEGIN:DAYLIGHT
TZOFFSETFROM:+0100
TZOFFSETTO:+0200
TZNAME:CEST
DTSTART:20260329T010000
END:DAYLIGHT
BEGIN:STANDARD
TZOFFSETFROM:+0200
TZOFFSETTO:+0100
TZNAME:CET
DTSTART:20261025T010000
END:STANDARD
END:VTIMEZONE
BEGIN:VEVENT
DTSTART;TZID=Europe/Paris:20250206T213000
DTEND;TZID=Europe/Paris:20250206T233000
DTSTAMP:20260426T055026
CREATED:20250121T161253Z
LAST-MODIFIED:20250122T083804Z
UID:2084-1738877400-1738884600@ovellanegraramblas.com
SUMMARY:VALENCIA x BARÇA (COPA DEL REY)
DESCRIPTION:L’emoció de la Copa del Rey a l’Ovella Negra! No et perdis el vibrant partit entre el València i el Barça. T’invitem a viure cada moment d’aquesta batalla futbolística en un ambient ple de passió. Uneix-te a nosaltres per a una experiència inoblidable!
URL:https://ovellanegraramblas.com/ca/evento/valencia-x-barca-copa-del-rey/
LOCATION:Oveja Negra Ramblas\, Calle de Sitges\, 5\, Barcelona\, Barcelona\, 08001
CATEGORIES:Eventos televisivos deportivos
ORGANIZER;CN="Oveja Negra Ramblas":MAILTO:comunicacio@ovellanegra.com
END:VEVENT
BEGIN:VEVENT
DTSTART;TZID=Europe/Paris:20250209T210000
DTEND;TZID=Europe/Paris:20250209T230000
DTSTAMP:20260426T055026
CREATED:20250122T091238Z
LAST-MODIFIED:20250122T091238Z
UID:2111-1739134800-1739142000@ovellanegraramblas.com
SUMMARY:SEVILLA x BARÇA (LLIGA)
DESCRIPTION:L’emoció de la Lliga a l’Ovella Negra! No et perdis el vibrant partit entre el Sevilla i el Barça. T’invitem a viure cada moment d’aquesta batalla futbolística en un ambient ple de passió. Uneix-te a nosaltres per a una experiència inoblidable!
URL:https://ovellanegraramblas.com/ca/evento/sevilla-x-barca-lliga-2/
LOCATION:Oveja Negra Ramblas\, Calle de Sitges\, 5\, Barcelona\, Barcelona\, 08001
CATEGORIES:Eventos televisivos deportivos
ORGANIZER;CN="Oveja Negra Ramblas":MAILTO:comunicacio@ovellanegra.com
END:VEVENT
BEGIN:VEVENT
DTSTART;TZID=Europe/Paris:20250209T230000
DTEND;TZID=Europe/Paris:20250210T050000
DTSTAMP:20260426T055026
CREATED:20250122T084834Z
LAST-MODIFIED:20250122T084834Z
UID:2094-1739142000-1739163600@ovellanegraramblas.com
SUMMARY:SUPER BOWL
DESCRIPTION:L’emoció de la SUPER BOWL a l’Ovella Negra! \nUneix-te a nosaltres per a una experiència inoblidable!
URL:https://ovellanegraramblas.com/ca/evento/super-bowl/
LOCATION:Oveja Negra Ramblas\, Calle de Sitges\, 5\, Barcelona\, Barcelona\, 08001
CATEGORIES:Eventos televisivos deportivos
ORGANIZER;CN="Oveja Negra Ramblas":MAILTO:comunicacio@ovellanegra.com
END:VEVENT
BEGIN:VEVENT
DTSTART;TZID=Europe/Paris:20250211T210000
DTEND;TZID=Europe/Paris:20250211T230000
DTSTAMP:20260426T055026
CREATED:20250206T121212Z
LAST-MODIFIED:20250206T121221Z
UID:2165-1739307600-1739314800@ovellanegraramblas.com
SUMMARY:MANCHESTER CITY VS REAL MADRID (CHAMPIONS)
DESCRIPTION:L’emoció de la Champions a l’Ovella Negra! No et perdis el vibrant partit entre Manchester City vs Real Madrid. Et convidem a viure cada moment d’aquesta batalla futbolística en un ambient ple de passió. Uneix-te a nosaltres per a una experiència inoblidable!
URL:https://ovellanegraramblas.com/ca/evento/manchester-city-vs-real-madrid/
LOCATION:Oveja Negra Ramblas\, Calle de Sitges\, 5\, Barcelona\, Barcelona\, 08001
CATEGORIES:Eventos televisivos deportivos
END:VEVENT
BEGIN:VEVENT
DTSTART;TZID=Europe/Paris:20250217T210000
DTEND;TZID=Europe/Paris:20250217T230000
DTSTAMP:20260426T055026
CREATED:20250206T121457Z
LAST-MODIFIED:20250206T121457Z
UID:2168-1739826000-1739833200@ovellanegraramblas.com
SUMMARY:BARÇA VS RAYO VALLECANO (LIGA)
DESCRIPTION:L’emoció de la Liga a l’Ovella Negra! No et perdis el vibrant partit entre Barça vs Rayo Vallecano. Et convidem a viure cada moment d’aquesta batalla futbolística en un ambient ple de passió. Uneix-te a nosaltres per a una experiència inoblidable!
URL:https://ovellanegraramblas.com/ca/evento/barca-vs-rayo-vallecano-liga/
LOCATION:Oveja Negra Ramblas\, Calle de Sitges\, 5\, Barcelona\, Barcelona\, 08001
CATEGORIES:Eventos televisivos deportivos
END:VEVENT
BEGIN:VEVENT
DTSTART;TZID=Europe/Paris:20250219T210000
DTEND;TZID=Europe/Paris:20250219T230000
DTSTAMP:20260426T055026
CREATED:20250206T121629Z
LAST-MODIFIED:20250206T121629Z
UID:2171-1739998800-1740006000@ovellanegraramblas.com
SUMMARY:REAL MADRID VS MANCHESTER CITY (CHAMPIONS)
DESCRIPTION:L’emoció de la Champions a l’Ovella Negra! No et perdis el vibrant partit entre Real Madrid vs Manchester City. Et convidem a viure cada moment d’aquesta batalla futbolística en un ambient ple de passió. Uneix-te a nosaltres per a una experiència inoblidable!
URL:https://ovellanegraramblas.com/ca/evento/real-madrid-vs-manchester-city-champions-2/
LOCATION:Oveja Negra Ramblas\, Calle de Sitges\, 5\, Barcelona\, Barcelona\, 08001
CATEGORIES:Eventos televisivos deportivos
END:VEVENT
BEGIN:VEVENT
DTSTART;TZID=Europe/Paris:20250222T210000
DTEND;TZID=Europe/Paris:20250222T230000
DTSTAMP:20260426T055026
CREATED:20250206T121716Z
LAST-MODIFIED:20250206T121726Z
UID:2174-1740258000-1740265200@ovellanegraramblas.com
SUMMARY:LAS PALMAS VS BARÇA (LIGA)
DESCRIPTION:L’emoció de la Lliga a l’Ovella Negra! No et perdis el vibrant partit entre Las Palmas i el Barça. Et convidem a viure cada moment d’aquesta batalla futbolística en un ambient ple de passió. Uneix-te a nosaltres per a una experiència inoblidable!
URL:https://ovellanegraramblas.com/ca/evento/las-palmas-vs-barca-liga/
LOCATION:Oveja Negra Ramblas\, Calle de Sitges\, 5\, Barcelona\, Barcelona\, 08001
CATEGORIES:Eventos televisivos deportivos
END:VEVENT
BEGIN:VEVENT
DTSTART;TZID=Europe/Paris:20250225T213000
DTEND;TZID=Europe/Paris:20250225T233000
DTSTAMP:20260426T055026
CREATED:20250220T102207Z
LAST-MODIFIED:20250220T102304Z
UID:2205-1740519000-1740526200@ovellanegraramblas.com
SUMMARY:BARÇA VS ATLÉTICO DE MADRID (COPA DEL REI)
DESCRIPTION:L’emoció de la Copa del Rei a l’Ovella Negra! No et perdis el vibrant partit entre el Barça i l’Atlètic de Madrid. Et convidem a viure cada moment d’aquesta batalla futbolística en un ambient ple de passió. Uneix-te a nosaltres per a una experiència inoblidable!
URL:https://ovellanegraramblas.com/ca/evento/barca-vs-atletico-de-madrid-copa-del-rei/
LOCATION:Oveja Negra Ramblas\, Calle de Sitges\, 5\, Barcelona\, Barcelona\, 08001
CATEGORIES:Eventos televisivos deportivos
END:VEVENT
END:VCALENDAR