BEGIN:VCALENDAR
VERSION:2.0
PRODID:-//Oveja Negra Ramblas - ECPv6.15.20//NONSGML v1.0//EN
CALSCALE:GREGORIAN
METHOD:PUBLISH
X-ORIGINAL-URL:https://ovellanegraramblas.com/ca/
X-WR-CALDESC:Esdeveniments per Oveja Negra Ramblas
REFRESH-INTERVAL;VALUE=DURATION:PT1H
X-Robots-Tag:noindex
X-PUBLISHED-TTL:PT1H
BEGIN:VTIMEZONE
TZID:Europe/Paris
BEGIN:DAYLIGHT
TZOFFSETFROM:+0100
TZOFFSETTO:+0200
TZNAME:CEST
DTSTART:20240331T010000
END:DAYLIGHT
BEGIN:STANDARD
TZOFFSETFROM:+0200
TZOFFSETTO:+0100
TZNAME:CET
DTSTART:20241027T010000
END:STANDARD
BEGIN:DAYLIGHT
TZOFFSETFROM:+0100
TZOFFSETTO:+0200
TZNAME:CEST
DTSTART:20250330T010000
END:DAYLIGHT
BEGIN:STANDARD
TZOFFSETFROM:+0200
TZOFFSETTO:+0100
TZNAME:CET
DTSTART:20251026T010000
END:STANDARD
BEGIN:DAYLIGHT
TZOFFSETFROM:+0100
TZOFFSETTO:+0200
TZNAME:CEST
DTSTART:20260329T010000
END:DAYLIGHT
BEGIN:STANDARD
TZOFFSETFROM:+0200
TZOFFSETTO:+0100
TZNAME:CET
DTSTART:20261025T010000
END:STANDARD
END:VTIMEZONE
BEGIN:VEVENT
DTSTART;TZID=Europe/Paris:20250304T210000
DTEND;TZID=Europe/Paris:20250304T230000
DTSTAMP:20260426T042251
CREATED:20250225T115032Z
LAST-MODIFIED:20250225T115032Z
UID:2270-1741122000-1741129200@ovellanegraramblas.com
SUMMARY:REAL MADRID VS ATLÉTICO DE MADRID (CHAMPIONS)
DESCRIPTION:L’emoció de la Champions a l’Ovella Negra! No et perdis el vibrant partit entre el Reial Madrid i l’Atlètic de Madrid. Et convidem a viure cada moment d’aquesta batalla futbolística en un ambient ple de passió. Uneix-te a nosaltres per a una experiència inoblidable!
URL:https://ovellanegraramblas.com/ca/evento/real-madrid-vs-atletico-de-madrid-champions/
LOCATION:Oveja Negra Ramblas\, Calle de Sitges\, 5\, Barcelona\, Barcelona\, 08001
CATEGORIES:Eventos televisivos deportivos
END:VEVENT
BEGIN:VEVENT
DTSTART;TZID=Europe/Paris:20250305T210000
DTEND;TZID=Europe/Paris:20250305T230000
DTSTAMP:20260426T042251
CREATED:20250224T142643Z
LAST-MODIFIED:20250225T115149Z
UID:2237-1741208400-1741215600@ovellanegraramblas.com
SUMMARY:BENFICA VS BARÇA (CHAMPIONS)
DESCRIPTION:L’emoció de la Campions a l’Ovella Negra! No et perdis el vibrant partit entre el Benfica vs Barça. Et convidem a viure cada moment d’aquesta batalla futbolística en un ambient ple de passió. Uneix-te a nosaltres per a una experiència inoblidable!
URL:https://ovellanegraramblas.com/ca/evento/benfica-vs-barca-champions-2/
LOCATION:Oveja Negra Ramblas\, Calle de Sitges\, 5\, Barcelona\, Barcelona\, 08001
CATEGORIES:Eventos televisivos deportivos
END:VEVENT
BEGIN:VEVENT
DTSTART;TZID=Europe/Paris:20250308T210000
DTEND;TZID=Europe/Paris:20250308T230000
DTSTAMP:20260426T042251
CREATED:20250224T142713Z
LAST-MODIFIED:20250225T115129Z
UID:2240-1741467600-1741474800@ovellanegraramblas.com
SUMMARY:BARÇA VS OSASUNA (LIGA)
DESCRIPTION:L’emoció de la Liga a l’Ovella Negra! No et perdis el vibrant partit entre el Barça vs Osasuna. Et convidem a viure cada moment d’aquesta batalla futbolística en un ambient ple de passió. Uneix-te a nosaltres per a una experiència inoblidable! \n  \n  \n  \n 
URL:https://ovellanegraramblas.com/ca/evento/real-madrid-vs-atletico-de-madrid-champions-2/
LOCATION:Oveja Negra Ramblas\, Calle de Sitges\, 5\, Barcelona\, Barcelona\, 08001
CATEGORIES:Eventos televisivos deportivos
END:VEVENT
BEGIN:VEVENT
DTSTART;TZID=Europe/Paris:20250311T184500
DTEND;TZID=Europe/Paris:20250311T204500
DTSTAMP:20260426T042251
CREATED:20250227T105116Z
LAST-MODIFIED:20250227T105116Z
UID:2288-1741718700-1741725900@ovellanegraramblas.com
SUMMARY:BARÇA VS BENFICA (CHAMPIONS)
DESCRIPTION:L’emoció de la Champions a l’Ovella Negra! No et perdis el vibrant partit entre el Barça vs Benfica. Et convidem a viure cada moment d’aquesta batalla futbolística en un ambient ple de passió. Uneix-te a nosaltres per a una experiència inoblidable! \n  \n  \n  \n 
URL:https://ovellanegraramblas.com/ca/evento/barca-vs-benfica-champions/
LOCATION:Oveja Negra Ramblas\, Calle de Sitges\, 5\, Barcelona\, Barcelona\, 08001
CATEGORIES:Eventos televisivos deportivos
END:VEVENT
BEGIN:VEVENT
DTSTART;TZID=Europe/Paris:20250312T210000
DTEND;TZID=Europe/Paris:20250312T230000
DTSTAMP:20260426T042251
CREATED:20250227T105257Z
LAST-MODIFIED:20250227T105257Z
UID:2291-1741813200-1741820400@ovellanegraramblas.com
SUMMARY:ATLÉTICO MADRID VS REAL MADRID (CHAMPIONS)
DESCRIPTION:L’emoció de la Champions a l’Ovella Negra! No et perdis el vibrant partit entre el Atlético de Madrid vs Real Madrid. Et convidem a viure cada moment d’aquesta batalla futbolística en un ambient ple de passió. Uneix-te a nosaltres per a una experiència inoblidable! \n  \n  \n  \n 
URL:https://ovellanegraramblas.com/ca/evento/atletico-madrid-vs-real-madrid-champions/
LOCATION:Oveja Negra Ramblas\, Calle de Sitges\, 5\, Barcelona\, Barcelona\, 08001
CATEGORIES:Eventos televisivos deportivos
END:VEVENT
BEGIN:VEVENT
DTSTART;TZID=Europe/Paris:20250316T210000
DTEND;TZID=Europe/Paris:20250316T230000
DTSTAMP:20260426T042251
CREATED:20250314T130212Z
LAST-MODIFIED:20250314T130311Z
UID:2305-1742158800-1742166000@ovellanegraramblas.com
SUMMARY:ATLÉTICO DE MADRID VS BARÇA (LIGA)
DESCRIPTION:L’emoció de la Lliga a l’Ovella Negra! No et perdis el vibrant partit entre l’Atlètic de Madrid i el Barça. T’invitem a viure cada moment d’aquesta batalla futbolística en un ambient ple de passió. Uneix-te a nosaltres per a una experiència inoblidable!
URL:https://ovellanegraramblas.com/ca/evento/atletico-de-madrid-vs-barca-liga/
LOCATION:Oveja Negra Ramblas\, Calle de Sitges\, 5\, Barcelona\, Barcelona\, 08001
CATEGORIES:Eventos televisivos deportivos
END:VEVENT
BEGIN:VEVENT
DTSTART;TZID=Europe/Paris:20250327T210000
DTEND;TZID=Europe/Paris:20250327T230000
DTSTAMP:20260426T042251
CREATED:20250324T114411Z
LAST-MODIFIED:20250324T114411Z
UID:2382-1743109200-1743116400@ovellanegraramblas.com
SUMMARY:BARÇA VS OSASUNA (LIGA)
DESCRIPTION:L’emoció de la Lliga a l’Ovella Negra! No et perdis el vibrant partit entre Barça vs Osasuna. T’invitem a viure cada moment d’aquesta batalla futbolística en un ambient ple de passió. Uneix-te a nosaltres per a una experiència inoblidable!
URL:https://ovellanegraramblas.com/ca/evento/barca-vs-osasuna-liga/
LOCATION:Oveja Negra Ramblas\, Calle de Sitges\, 5\, Barcelona\, Barcelona\, 08001
CATEGORIES:Eventos televisivos deportivos
END:VEVENT
END:VCALENDAR