BEGIN:VCALENDAR
VERSION:2.0
PRODID:-//Oveja Negra Ramblas - ECPv6.15.20//NONSGML v1.0//EN
CALSCALE:GREGORIAN
METHOD:PUBLISH
X-ORIGINAL-URL:https://ovellanegraramblas.com/ca/
X-WR-CALDESC:Esdeveniments per Oveja Negra Ramblas
REFRESH-INTERVAL;VALUE=DURATION:PT1H
X-Robots-Tag:noindex
X-PUBLISHED-TTL:PT1H
BEGIN:VTIMEZONE
TZID:Europe/Paris
BEGIN:DAYLIGHT
TZOFFSETFROM:+0100
TZOFFSETTO:+0200
TZNAME:CEST
DTSTART:20240331T010000
END:DAYLIGHT
BEGIN:STANDARD
TZOFFSETFROM:+0200
TZOFFSETTO:+0100
TZNAME:CET
DTSTART:20241027T010000
END:STANDARD
BEGIN:DAYLIGHT
TZOFFSETFROM:+0100
TZOFFSETTO:+0200
TZNAME:CEST
DTSTART:20250330T010000
END:DAYLIGHT
BEGIN:STANDARD
TZOFFSETFROM:+0200
TZOFFSETTO:+0100
TZNAME:CET
DTSTART:20251026T010000
END:STANDARD
BEGIN:DAYLIGHT
TZOFFSETFROM:+0100
TZOFFSETTO:+0200
TZNAME:CEST
DTSTART:20260329T010000
END:DAYLIGHT
BEGIN:STANDARD
TZOFFSETFROM:+0200
TZOFFSETTO:+0100
TZNAME:CET
DTSTART:20261025T010000
END:STANDARD
END:VTIMEZONE
BEGIN:VEVENT
DTSTART;TZID=Europe/Paris:20250311T184500
DTEND;TZID=Europe/Paris:20250311T204500
DTSTAMP:20260426T055853
CREATED:20250227T105116Z
LAST-MODIFIED:20250227T105116Z
UID:2288-1741718700-1741725900@ovellanegraramblas.com
SUMMARY:BARÇA VS BENFICA (CHAMPIONS)
DESCRIPTION:L’emoció de la Champions a l’Ovella Negra! No et perdis el vibrant partit entre el Barça vs Benfica. Et convidem a viure cada moment d’aquesta batalla futbolística en un ambient ple de passió. Uneix-te a nosaltres per a una experiència inoblidable! \n  \n  \n  \n 
URL:https://ovellanegraramblas.com/ca/evento/barca-vs-benfica-champions/
LOCATION:Oveja Negra Ramblas\, Calle de Sitges\, 5\, Barcelona\, Barcelona\, 08001
CATEGORIES:Eventos televisivos deportivos
END:VEVENT
END:VCALENDAR