BEGIN:VCALENDAR
VERSION:2.0
PRODID:-//Oveja Negra Ramblas - ECPv6.15.20//NONSGML v1.0//EN
CALSCALE:GREGORIAN
METHOD:PUBLISH
X-WR-CALNAME:Oveja Negra Ramblas
X-ORIGINAL-URL:https://ovellanegraramblas.com/ca/
X-WR-CALDESC:Esdeveniments per Oveja Negra Ramblas
REFRESH-INTERVAL;VALUE=DURATION:PT1H
X-Robots-Tag:noindex
X-PUBLISHED-TTL:PT1H
BEGIN:VTIMEZONE
TZID:Europe/Paris
BEGIN:DAYLIGHT
TZOFFSETFROM:+0100
TZOFFSETTO:+0200
TZNAME:CEST
DTSTART:20250330T010000
END:DAYLIGHT
BEGIN:STANDARD
TZOFFSETFROM:+0200
TZOFFSETTO:+0100
TZNAME:CET
DTSTART:20251026T010000
END:STANDARD
BEGIN:DAYLIGHT
TZOFFSETFROM:+0100
TZOFFSETTO:+0200
TZNAME:CEST
DTSTART:20260329T010000
END:DAYLIGHT
BEGIN:STANDARD
TZOFFSETFROM:+0200
TZOFFSETTO:+0100
TZNAME:CET
DTSTART:20261025T010000
END:STANDARD
BEGIN:DAYLIGHT
TZOFFSETFROM:+0100
TZOFFSETTO:+0200
TZNAME:CEST
DTSTART:20270328T010000
END:DAYLIGHT
BEGIN:STANDARD
TZOFFSETFROM:+0200
TZOFFSETTO:+0100
TZNAME:CET
DTSTART:20271031T010000
END:STANDARD
END:VTIMEZONE
BEGIN:VEVENT
DTSTART;TZID=Europe/Paris:20260118T210000
DTEND;TZID=Europe/Paris:20260118T230000
DTSTAMP:20260421T211713
CREATED:20251218T212421Z
LAST-MODIFIED:20260113T172908Z
UID:2740-1768770000-1768777200@ovellanegraramblas.com
SUMMARY:REAL SOCIEDAD VS BARÇA (LIGA)
DESCRIPTION:L’emoció de la Liga a l’Ovella Negra! No et perdis el vibrant partit entre REAL SOCIEDAD VS BARÇA. T’invitem a viure cada moment d’aquesta batalla futbolística en un ambient ple de passió. Uneix-te a nosaltres per a una experiència inoblidable!
URL:https://ovellanegraramblas.com/ca/evento/espanyol-vs-barca-liga-3/
CATEGORIES:Eventos televisivos deportivos
END:VEVENT
END:VCALENDAR