BEGIN:VCALENDAR
VERSION:2.0
PRODID:-//Oveja Negra Ramblas - ECPv6.15.20//NONSGML v1.0//EN
CALSCALE:GREGORIAN
METHOD:PUBLISH
X-WR-CALNAME:Oveja Negra Ramblas
X-ORIGINAL-URL:https://ovellanegraramblas.com/en/
X-WR-CALDESC:Events for Oveja Negra Ramblas
REFRESH-INTERVAL;VALUE=DURATION:PT1H
X-Robots-Tag:noindex
X-PUBLISHED-TTL:PT1H
BEGIN:VTIMEZONE
TZID:Europe/Paris
BEGIN:DAYLIGHT
TZOFFSETFROM:+0100
TZOFFSETTO:+0200
TZNAME:CEST
DTSTART:20230326T010000
END:DAYLIGHT
BEGIN:STANDARD
TZOFFSETFROM:+0200
TZOFFSETTO:+0100
TZNAME:CET
DTSTART:20231029T010000
END:STANDARD
BEGIN:DAYLIGHT
TZOFFSETFROM:+0100
TZOFFSETTO:+0200
TZNAME:CEST
DTSTART:20240331T010000
END:DAYLIGHT
BEGIN:STANDARD
TZOFFSETFROM:+0200
TZOFFSETTO:+0100
TZNAME:CET
DTSTART:20241027T010000
END:STANDARD
BEGIN:DAYLIGHT
TZOFFSETFROM:+0100
TZOFFSETTO:+0200
TZNAME:CEST
DTSTART:20250330T010000
END:DAYLIGHT
BEGIN:STANDARD
TZOFFSETFROM:+0200
TZOFFSETTO:+0100
TZNAME:CET
DTSTART:20251026T010000
END:STANDARD
END:VTIMEZONE
BEGIN:VEVENT
DTSTART;TZID=Europe/Paris:20240416T210000
DTEND;TZID=Europe/Paris:20240416T230000
DTSTAMP:20260425T144859
CREATED:20240403T094717Z
LAST-MODIFIED:20240403T094717Z
UID:1402-1713301200-1713308400@ovellanegraramblas.com
SUMMARY:BARÇA VS PSG (CHAMPIONS)
DESCRIPTION:We are waiting for you at Black Sheep to experience the excitement of the Champions League match between BARÇA and PSG. Enjoy a unique experience\, full of football passion in our cozy venue.
URL:https://ovellanegraramblas.com/en/evento/barca-vs-psg-champions/
LOCATION:Oveja Negra Ramblas\, Calle de Sitges\, 5\, Barcelona\, Barcelona\, 08001
CATEGORIES:Televised sporting events
ORGANIZER;CN="Oveja Negra Ramblas":MAILTO:comunicacio@ovellanegra.com
END:VEVENT
BEGIN:VEVENT
DTSTART;TZID=Europe/Paris:20240413T210000
DTEND;TZID=Europe/Paris:20240413T230000
DTSTAMP:20260425T144859
CREATED:20240403T093631Z
LAST-MODIFIED:20240403T093631Z
UID:1400-1713042000-1713049200@ovellanegraramblas.com
SUMMARY:CADIZ VS BARÇA (LIGA)
DESCRIPTION:The excitement of the League continues in The Black Sheep! Don’t miss the vibrant match between Cadiz and Barça. We invite you to live every moment of this football battle in an atmosphere full of passion. Join us for an unforgettable experience!
URL:https://ovellanegraramblas.com/en/evento/cadiz-vs-barca-liga/
LOCATION:Oveja Negra Ramblas\, Calle de Sitges\, 5\, Barcelona\, Barcelona\, 08001
CATEGORIES:Televised sporting events
ORGANIZER;CN="Oveja Negra Ramblas":MAILTO:comunicacio@ovellanegra.com
END:VEVENT
BEGIN:VEVENT
DTSTART;TZID=Europe/Paris:20240410T210000
DTEND;TZID=Europe/Paris:20240410T230000
DTSTAMP:20260425T144859
CREATED:20240403T091640Z
LAST-MODIFIED:20240403T091828Z
UID:1390-1712782800-1712790000@ovellanegraramblas.com
SUMMARY:PSG VS BARÇA (CHAMPIONS)
DESCRIPTION:We are waiting for you at Black Sheep to experience the excitement of the Champions League match between PSG and BARÇA. Enjoy a unique experience\, full of football passion in our cozy venue.
URL:https://ovellanegraramblas.com/en/evento/psg-vs-barca-champions/
LOCATION:Oveja Negra Ramblas\, Calle de Sitges\, 5\, Barcelona\, Barcelona\, 08001
CATEGORIES:Televised sporting events
ORGANIZER;CN="Oveja Negra Ramblas":MAILTO:comunicacio@ovellanegra.com
END:VEVENT
BEGIN:VEVENT
DTSTART;TZID=Europe/Paris:20240409T210000
DTEND;TZID=Europe/Paris:20240409T230000
DTSTAMP:20260425T144859
CREATED:20240403T085639Z
LAST-MODIFIED:20240403T085950Z
UID:1381-1712696400-1712703600@ovellanegraramblas.com
SUMMARY:REAL MADRID VS MANCHESTER CITY (CHAMPIONS)
DESCRIPTION:We are waiting for you at Black Sheep to experience the excitement of the Champions League match between Real Madrid and Manchester City. Enjoy a unique experience\, full of football passion in our cozy venue
URL:https://ovellanegraramblas.com/en/evento/real-madrid-vs-manchester-city-champions/
LOCATION:Oveja Negra Ramblas\, Calle de Sitges\, 5\, Barcelona\, Barcelona\, 08001
CATEGORIES:Televised sporting events
END:VEVENT
BEGIN:VEVENT
DTSTART;TZID=Europe/Paris:20240330T210000
DTEND;TZID=Europe/Paris:20240330T230000
DTSTAMP:20260425T144859
CREATED:20240311T113635Z
LAST-MODIFIED:20240315T125215Z
UID:1222-1711832400-1711839600@ovellanegraramblas.com
SUMMARY:BARÇA VS U.D. LAS PALMAS
DESCRIPTION:The excitement of the League continues in Oveja Negra! Don’t miss the vibrant match between Barça and U.D. Las Palmas. We invite you to live every moment of this football battle.
URL:https://ovellanegraramblas.com/en/evento/barca-vs-u-d-las-palmas/
LOCATION:Oveja Negra Ramblas\, Calle de Sitges\, 5\, Barcelona\, Barcelona\, 08001
CATEGORIES:Televised sporting events
END:VEVENT
BEGIN:VEVENT
DTSTART;TZID=Europe/Paris:20240317T210000
DTEND;TZID=Europe/Paris:20240317T230000
DTSTAMP:20260425T144859
CREATED:20240311T113504Z
LAST-MODIFIED:20240315T125327Z
UID:1224-1710709200-1710716400@ovellanegraramblas.com
SUMMARY:ATLETICO DE MADRID VS BARÇA
DESCRIPTION:The excitement of the League continues in Oveja Negra! Don’t miss the vibrant match between Atletico de Madrid and Barça. We invite you to live every moment of this football battle.
URL:https://ovellanegraramblas.com/en/evento/atletico-de-madrid-vs-barca/
LOCATION:Oveja Negra Ramblas\, Calle de Sitges\, 5\, Barcelona\, Barcelona\, 08001
CATEGORIES:Televised sporting events
END:VEVENT
BEGIN:VEVENT
DTSTART;TZID=Europe/Paris:20240312T210000
DTEND;TZID=Europe/Paris:20240312T230000
DTSTAMP:20260425T144859
CREATED:20240308T112925Z
LAST-MODIFIED:20240308T112925Z
UID:1226-1710277200-1710284400@ovellanegraramblas.com
SUMMARY:Barça vs Napoli (Champions)
DESCRIPTION:¡La emoción de la Champions continúa en Oveja Negra! No te pierdas el vibrante partido entre Barça vs Napoli. Te invitamos a vivir cada momento de esta batalla futbolística en un ambiente lleno de pasión. ¡Únete a nosotros para una experiencia inolvidable!
URL:https://ovellanegraramblas.com/en/evento/barca-vs-napoli-champions/
LOCATION:Oveja Negra Ramblas\, Calle de Sitges\, 5\, Barcelona\, Barcelona\, 08001
CATEGORIES:Televised sporting events
ORGANIZER;CN="Oveja Negra Ramblas":MAILTO:comunicacio@ovellanegra.com
END:VEVENT
BEGIN:VEVENT
DTSTART;TZID=Europe/Paris:20240303T210000
DTEND;TZID=Europe/Paris:20240303T230000
DTSTAMP:20260425T144859
CREATED:20240306T083950Z
LAST-MODIFIED:20240403T090338Z
UID:1228-1709499600-1709506800@ovellanegraramblas.com
SUMMARY:Athletic Club de Bilbao vs Barça
DESCRIPTION:¡La emoción de la Liga continúa en Oveja Negra! No te pierdas el vibrante partido entre Athletic Club de Bilbao vs Barça. Te invitamos a vivir cada momento de esta batalla futbolística en un ambiente lleno de pasión. ¡Únete a nosotros para una experiencia inolvidable!
URL:https://ovellanegraramblas.com/en/evento/athletic-club-de-bilbao-vs-barca/
LOCATION:Oveja Negra Ramblas\, Calle de Sitges\, 5\, Barcelona\, Barcelona\, 08001
CATEGORIES:Televised sporting events
ORGANIZER;CN="Oveja Negra Ramblas":MAILTO:comunicacio@ovellanegra.com
END:VEVENT
BEGIN:VEVENT
DTSTART;TZID=Europe/Paris:20240208T210000
DTEND;TZID=Europe/Paris:20240208T210000
DTSTAMP:20260425T144859
CREATED:20240117T141942Z
LAST-MODIFIED:20240117T141942Z
UID:1236-1707426000-1707426000@ovellanegraramblas.com
SUMMARY:Barça vs Mallorca (LIGA)
DESCRIPTION:¡La Liga continúa en Oveja Negra! No te pierdas el vibrante partido entre Barça vs Mallorca. Te invitamos a vivir cada momento de esta batalla futbolística en un ambiente lleno de pasión. ¡Únete a nosotros para una experiencia inolvidable!
URL:https://ovellanegraramblas.com/en/evento/mercadillo-de-todo-a-1e/
LOCATION:Oveja Negra Ramblas\, Calle de Sitges\, 5\, Barcelona\, Barcelona\, 08001
CATEGORIES:Televised sporting events
ORGANIZER;CN="Oveja Negra Ramblas":MAILTO:comunicacio@ovellanegra.com
END:VEVENT
END:VCALENDAR