BEGIN:VCALENDAR
VERSION:2.0
PRODID:-//Oveja Negra Ramblas - ECPv6.15.20//NONSGML v1.0//EN
CALSCALE:GREGORIAN
METHOD:PUBLISH
X-WR-CALNAME:Oveja Negra Ramblas
X-ORIGINAL-URL:https://ovellanegraramblas.com/en/
X-WR-CALDESC:Events for Oveja Negra Ramblas
REFRESH-INTERVAL;VALUE=DURATION:PT1H
X-Robots-Tag:noindex
X-PUBLISHED-TTL:PT1H
BEGIN:VTIMEZONE
TZID:Europe/Paris
BEGIN:DAYLIGHT
TZOFFSETFROM:+0100
TZOFFSETTO:+0200
TZNAME:CEST
DTSTART:20230326T010000
END:DAYLIGHT
BEGIN:STANDARD
TZOFFSETFROM:+0200
TZOFFSETTO:+0100
TZNAME:CET
DTSTART:20231029T010000
END:STANDARD
BEGIN:DAYLIGHT
TZOFFSETFROM:+0100
TZOFFSETTO:+0200
TZNAME:CEST
DTSTART:20240331T010000
END:DAYLIGHT
BEGIN:STANDARD
TZOFFSETFROM:+0200
TZOFFSETTO:+0100
TZNAME:CET
DTSTART:20241027T010000
END:STANDARD
BEGIN:DAYLIGHT
TZOFFSETFROM:+0100
TZOFFSETTO:+0200
TZNAME:CEST
DTSTART:20250330T010000
END:DAYLIGHT
BEGIN:STANDARD
TZOFFSETFROM:+0200
TZOFFSETTO:+0100
TZNAME:CET
DTSTART:20251026T010000
END:STANDARD
BEGIN:DAYLIGHT
TZOFFSETFROM:+0100
TZOFFSETTO:+0200
TZNAME:CEST
DTSTART:20260329T010000
END:DAYLIGHT
BEGIN:STANDARD
TZOFFSETFROM:+0200
TZOFFSETTO:+0100
TZNAME:CET
DTSTART:20261025T010000
END:STANDARD
END:VTIMEZONE
BEGIN:VEVENT
DTSTART;TZID=Europe/Paris:20250211T210000
DTEND;TZID=Europe/Paris:20250211T230000
DTSTAMP:20260419T234248
CREATED:20250206T122004Z
LAST-MODIFIED:20250206T122422Z
UID:2177-1739307600-1739314800@ovellanegraramblas.com
SUMMARY:MANCHESTER CITY VS REAL MADRID (CHAMPIONS)
DESCRIPTION:The excitement of La Champions at Oveja Negra! Don’t miss the thrilling match between Manchester City vs Real Madrid. We invite you to experience every moment of this football battle in an atmosphere full of passion. Join us for an unforgettable experience!
URL:https://ovellanegraramblas.com/en/evento/manchester-city-vs-real-madrid-champions/
LOCATION:Oveja Negra Ramblas\, Calle de Sitges\, 5\, Barcelona\, Barcelona\, 08001
CATEGORIES:Televised sporting events
END:VEVENT
BEGIN:VEVENT
DTSTART;TZID=Europe/Paris:20250209T230000
DTEND;TZID=Europe/Paris:20250210T050000
DTSTAMP:20260419T234248
CREATED:20250126T172002Z
LAST-MODIFIED:20250126T172002Z
UID:2126-1739142000-1739163600@ovellanegraramblas.com
SUMMARY:SUPER BOWL
DESCRIPTION:The excitement of SUPER BOWL at Oveja Negra! \nJoin us for an unforgettable experience!
URL:https://ovellanegraramblas.com/en/evento/super-bowl/
LOCATION:Oveja Negra Ramblas\, Calle de Sitges\, 5\, Barcelona\, Barcelona\, 08001
CATEGORIES:Televised sporting events
ORGANIZER;CN="Oveja Negra Ramblas":MAILTO:comunicacio@ovellanegra.com
END:VEVENT
BEGIN:VEVENT
DTSTART;TZID=Europe/Paris:20250206T213000
DTEND;TZID=Europe/Paris:20250206T233000
DTSTAMP:20260419T234248
CREATED:20250126T171633Z
LAST-MODIFIED:20250126T171633Z
UID:2120-1738877400-1738884600@ovellanegraramblas.com
SUMMARY:VALENCIA x BARÇA (COPA DEL REY)
DESCRIPTION:The excitement of Copa del Rey at Oveja Negra! Don’t miss the thrilling match between Valencia and Barça. \nWe invite you to experience every moment of this football battle in an atmosphere full of passion. Join us for an unforgettable experience!
URL:https://ovellanegraramblas.com/en/evento/valencia-x-barca-copa-del-rey/
LOCATION:Oveja Negra Ramblas\, Calle de Sitges\, 5\, Barcelona\, Barcelona\, 08001
CATEGORIES:Televised sporting events
ORGANIZER;CN="Oveja Negra Ramblas":MAILTO:comunicacio@ovellanegra.com
END:VEVENT
BEGIN:VEVENT
DTSTART;TZID=Europe/Paris:20250129T210000
DTEND;TZID=Europe/Paris:20250129T230000
DTSTAMP:20260419T234248
CREATED:20250113T163954Z
LAST-MODIFIED:20250113T165605Z
UID:2042-1738184400-1738191600@ovellanegraramblas.com
SUMMARY:BARÇA x ATALANTA (CHAMPIONS)
DESCRIPTION:The excitement of the Champions League at Oveja Negra! Don’t miss the thrilling match between Barça and Atalanta. \nWe invite you to experience every moment of this football battle in an atmosphere full of passion. Join us for an unforgettable experience!
URL:https://ovellanegraramblas.com/en/evento/barca-x-atalanta-champions/
LOCATION:Oveja Negra Ramblas\, Calle de Sitges\, 5\, Barcelona\, Barcelona\, 08001
CATEGORIES:Televised sporting events
ORGANIZER;CN="Oveja Negra Ramblas":MAILTO:comunicacio@ovellanegra.com
END:VEVENT
BEGIN:VEVENT
DTSTART;TZID=Europe/Paris:20250126T210000
DTEND;TZID=Europe/Paris:20250126T230000
DTSTAMP:20260419T234248
CREATED:20250113T162257Z
LAST-MODIFIED:20250113T162257Z
UID:2039-1737925200-1737932400@ovellanegraramblas.com
SUMMARY:BARÇA VS VALENCIA (LEAGUE)
DESCRIPTION:The excitement of La Liga at Oveja Negra! Don’t miss the thrilling match between Barça and Valencia. \nWe invite you to experience every moment of this football battle in an atmosphere full of passion. Join us for an unforgettable experience!
URL:https://ovellanegraramblas.com/en/evento/barca-vs-valencia-league-2/
LOCATION:Oveja Negra Ramblas\, Calle de Sitges\, 5\, Barcelona\, Barcelona\, 08001
CATEGORIES:Televised sporting events
ORGANIZER;CN="Oveja Negra Ramblas":MAILTO:comunicacio@ovellanegra.com
END:VEVENT
BEGIN:VEVENT
DTSTART;TZID=Europe/Paris:20250122T210000
DTEND;TZID=Europe/Paris:20250122T230000
DTSTAMP:20260419T234248
CREATED:20250113T162108Z
LAST-MODIFIED:20250113T162108Z
UID:2036-1737579600-1737586800@ovellanegraramblas.com
SUMMARY:MADRID VS RB SALZBURG (CHAMPIONS)
DESCRIPTION:The excitement of the Champions League at Oveja Negra!\nDon’t miss the thrilling match between Madrid and RB Salzburg. We invite you to experience every moment of this football battle in an atmosphere full of passion. Join us for an unforgettable experience!
URL:https://ovellanegraramblas.com/en/evento/madrid-vs-rb-salzburg-champions/
LOCATION:Oveja Negra Ramblas\, Calle de Sitges\, 5\, Barcelona\, Barcelona\, 08001
CATEGORIES:Televised sporting events
ORGANIZER;CN="Oveja Negra Ramblas":MAILTO:comunicacio@ovellanegra.com
END:VEVENT
BEGIN:VEVENT
DTSTART;TZID=Europe/Paris:20250121T210000
DTEND;TZID=Europe/Paris:20250121T230000
DTSTAMP:20260419T234248
CREATED:20250113T161943Z
LAST-MODIFIED:20250113T161943Z
UID:2033-1737493200-1737500400@ovellanegraramblas.com
SUMMARY:BENFICA VS BARÇA (CHAMPIONS)
DESCRIPTION:The excitement of the Champions League at Oveja Negra! Don’t miss the thrilling match between Benfica and Barça. \nWe invite you to experience every moment of this football battle in an atmosphere full of passion. Join us for an unforgettable experience!
URL:https://ovellanegraramblas.com/en/evento/benfica-vs-barca-champions/
LOCATION:Oveja Negra Ramblas\, Calle de Sitges\, 5\, Barcelona\, Barcelona\, 08001
CATEGORIES:Televised sporting events
ORGANIZER;CN="Oveja Negra Ramblas":MAILTO:comunicacio@ovellanegra.com
END:VEVENT
BEGIN:VEVENT
DTSTART;TZID=Europe/Paris:20250118T210000
DTEND;TZID=Europe/Paris:20250118T230000
DTSTAMP:20260419T234248
CREATED:20250113T161816Z
LAST-MODIFIED:20250113T161816Z
UID:2030-1737234000-1737241200@ovellanegraramblas.com
SUMMARY:GETAFE x BARÇA (League)
DESCRIPTION:The excitement of the League continues in Oveja Negra! Don’t miss the thrilling match between Getafe and Barça. We invite you to experience every moment of this football battle in an atmosphere full of passion. Join us for an unforgettable experience!
URL:https://ovellanegraramblas.com/en/evento/getafe-x-barca-league/
LOCATION:Oveja Negra Ramblas\, Calle de Sitges\, 5\, Barcelona\, Barcelona\, 08001
CATEGORIES:Televised sporting events
ORGANIZER;CN="Oveja Negra Ramblas":MAILTO:comunicacio@ovellanegra.com
END:VEVENT
BEGIN:VEVENT
DTSTART;TZID=Europe/Paris:20250115T210000
DTEND;TZID=Europe/Paris:20250115T230000
DTSTAMP:20260419T234248
CREATED:20250113T161638Z
LAST-MODIFIED:20250113T161638Z
UID:2027-1736974800-1736982000@ovellanegraramblas.com
SUMMARY:BARÇA x BETIS (COPA DEL REY)
DESCRIPTION:The excitement of the Copa del Rey at Oveja Negra! Don’t miss the thrilling match between Barça and Betis. We invite you to experience every moment of this football battle in an atmosphere full of passion. Join us for an unforgettable experience!
URL:https://ovellanegraramblas.com/en/evento/barca-x-betis-copa-del-rey/
LOCATION:Oveja Negra Ramblas\, Calle de Sitges\, 5\, Barcelona\, Barcelona\, 08001
CATEGORIES:Televised sporting events
ORGANIZER;CN="Oveja Negra Ramblas":MAILTO:comunicacio@ovellanegra.com
END:VEVENT
BEGIN:VEVENT
DTSTART;TZID=Europe/Paris:20241211T210000
DTEND;TZID=Europe/Paris:20241211T230000
DTSTAMP:20260419T234248
CREATED:20241115T211601Z
LAST-MODIFIED:20241115T211601Z
UID:1958-1733950800-1733958000@ovellanegraramblas.com
SUMMARY:BORUSSIA DORTMUND x BARÇA (CHAMPIONS)
DESCRIPTION:We are waiting for you at Black Sheep to experience the excitement of the Champions League match between BORUSSIA DORTMUND x BARÇA. Enjoy a unique experience\, full of football passion in our cozy venue.
URL:https://ovellanegraramblas.com/en/evento/borussia-dortmund-x-barca-champions/
LOCATION:Oveja Negra Ramblas\, Calle de Sitges\, 5\, Barcelona\, Barcelona\, 08001
CATEGORIES:Televised sporting events
ORGANIZER;CN="Oveja Negra Ramblas":MAILTO:comunicacio@ovellanegra.com
END:VEVENT
BEGIN:VEVENT
DTSTART;TZID=Europe/Paris:20241210T210000
DTEND;TZID=Europe/Paris:20241210T230000
DTSTAMP:20260419T234248
CREATED:20241115T211259Z
LAST-MODIFIED:20241115T211259Z
UID:1953-1733864400-1733871600@ovellanegraramblas.com
SUMMARY:ATALANTA x REAL MADRID (CHAMPIONS)
DESCRIPTION:We are waiting for you at Black Sheep to experience the excitement of the Champions League match between Atalanta x Real Madrid. Enjoy a unique experience\, full of football passion in our cozy venue.
URL:https://ovellanegraramblas.com/en/evento/atalanta-x-real-madrid-champions/
LOCATION:Oveja Negra Ramblas\, Calle de Sitges\, 5\, Barcelona\, Barcelona\, 08001
CATEGORIES:Televised sporting events
ORGANIZER;CN="Oveja Negra Ramblas":MAILTO:comunicacio@ovellanegra.com
END:VEVENT
BEGIN:VEVENT
DTSTART;TZID=Europe/Paris:20241203T190000
DTEND;TZID=Europe/Paris:20241203T210000
DTSTAMP:20260419T234248
CREATED:20241115T210943Z
LAST-MODIFIED:20241115T211439Z
UID:1950-1733252400-1733259600@ovellanegraramblas.com
SUMMARY:MALLORCA x BARÇA (LEAGUE)
DESCRIPTION:The excitement of the League continues in The Black Sheep! Don’t miss the vibrant match between Mallorca vs Barça. We invite you to live every moment of this football battle in an atmosphere full of passion. Join us for an unforgettable experience!
URL:https://ovellanegraramblas.com/en/evento/celta-de-vigo-x-barca-league/
LOCATION:Oveja Negra Ramblas\, Calle de Sitges\, 5\, Barcelona\, Barcelona\, 08001
CATEGORIES:Televised sporting events
ORGANIZER;CN="Oveja Negra Ramblas":MAILTO:comunicacio@ovellanegra.com
END:VEVENT
BEGIN:VEVENT
DTSTART;TZID=Europe/Paris:20241127T210000
DTEND;TZID=Europe/Paris:20241127T230000
DTSTAMP:20260419T234248
CREATED:20241030T175813Z
LAST-MODIFIED:20241030T175813Z
UID:1940-1732741200-1732748400@ovellanegraramblas.com
SUMMARY:LIVERPOOL x REAL MADRID (CHAMPIONS)
DESCRIPTION:We are waiting for you at Black Sheep to experience the excitement of the Champions League match between LIVERPOOL x REAL MADRID. Enjoy a unique experience\, full of football passion in our cozy venue.
URL:https://ovellanegraramblas.com/en/evento/liverpool-x-real-madrid-champions/
LOCATION:Oveja Negra Ramblas\, Calle de Sitges\, 5\, Barcelona\, Barcelona\, 08001
CATEGORIES:Televised sporting events
ORGANIZER;CN="Oveja Negra Ramblas":MAILTO:comunicacio@ovellanegra.com
END:VEVENT
BEGIN:VEVENT
DTSTART;TZID=Europe/Paris:20241126T210000
DTEND;TZID=Europe/Paris:20241126T230000
DTSTAMP:20260419T234248
CREATED:20241030T175514Z
LAST-MODIFIED:20241030T175514Z
UID:1937-1732654800-1732662000@ovellanegraramblas.com
SUMMARY:BARÇA x BREST (CHAMPIONS)
DESCRIPTION:We are waiting for you at Black Sheep to experience the excitement of the Champions League match between BARÇA x BREST. Enjoy a unique experience\, full of football passion in our cozy venue.
URL:https://ovellanegraramblas.com/en/evento/barca-x-brest-champions/
LOCATION:Oveja Negra Ramblas\, Calle de Sitges\, 5\, Barcelona\, Barcelona\, 08001
CATEGORIES:Televised sporting events
ORGANIZER;CN="Oveja Negra Ramblas":MAILTO:comunicacio@ovellanegra.com
END:VEVENT
BEGIN:VEVENT
DTSTART;TZID=Europe/Paris:20241123T210000
DTEND;TZID=Europe/Paris:20241123T230000
DTSTAMP:20260419T234248
CREATED:20241030T175003Z
LAST-MODIFIED:20241030T175003Z
UID:1934-1732395600-1732402800@ovellanegraramblas.com
SUMMARY:CELTA VIGO x BARÇA (LEAGUE)
DESCRIPTION:The excitement of the League continues in The Black Sheep! Don’t miss the vibrant match between Celta Vigo and Barça. We invite you to live every moment of this football battle in an atmosphere full of passion. Join us for an unforgettable experience!
URL:https://ovellanegraramblas.com/en/evento/celta-vigo-x-barca-league-2/
LOCATION:Oveja Negra Ramblas\, Calle de Sitges\, 5\, Barcelona\, Barcelona\, 08001
CATEGORIES:Televised sporting events
ORGANIZER;CN="Oveja Negra Ramblas":MAILTO:comunicacio@ovellanegra.com
END:VEVENT
BEGIN:VEVENT
DTSTART;TZID=Europe/Paris:20241110T210000
DTEND;TZID=Europe/Paris:20241110T230000
DTSTAMP:20260419T234248
CREATED:20241030T173059Z
LAST-MODIFIED:20241030T174511Z
UID:1916-1731272400-1731279600@ovellanegraramblas.com
SUMMARY:REAL SOCIEDAD x BARÇA (LEAGUE)
DESCRIPTION:The excitement of the League continues in The Black Sheep! Don’t miss the vibrant match between Real Sociedad vs Barça. We invite you to live every moment of this football battle in an atmosphere full of passion. Join us for an unforgettable experience!
URL:https://ovellanegraramblas.com/en/evento/real-sociedad-x-barca-league/
LOCATION:Oveja Negra Ramblas\, Calle de Sitges\, 5\, Barcelona\, Barcelona\, 08001
CATEGORIES:Televised sporting events
ORGANIZER;CN="Oveja Negra Ramblas":MAILTO:comunicacio@ovellanegra.com
END:VEVENT
BEGIN:VEVENT
DTSTART;TZID=Europe/Paris:20241106T210000
DTEND;TZID=Europe/Paris:20241106T230000
DTSTAMP:20260419T234248
CREATED:20241030T173816Z
LAST-MODIFIED:20241030T174618Z
UID:1922-1730926800-1730934000@ovellanegraramblas.com
SUMMARY:ESTRELLA ROJA x BARÇA (CHAMPIONS)
DESCRIPTION:We are waiting for you at Black Sheep to experience the excitement of the Champions League match between ESTRELLA ROJA x BARÇA. Enjoy a unique experience\, full of football passion in our cozy venue.
URL:https://ovellanegraramblas.com/en/evento/estrella-roja-x-barca-league/
LOCATION:Oveja Negra Ramblas\, Calle de Sitges\, 5\, Barcelona\, Barcelona\, 08001
CATEGORIES:Televised sporting events
ORGANIZER;CN="Oveja Negra Ramblas":MAILTO:comunicacio@ovellanegra.com
END:VEVENT
BEGIN:VEVENT
DTSTART;TZID=Europe/Paris:20241105T210000
DTEND;TZID=Europe/Paris:20241105T230000
DTSTAMP:20260419T234248
CREATED:20241030T174732Z
LAST-MODIFIED:20241030T174732Z
UID:1931-1730840400-1730847600@ovellanegraramblas.com
SUMMARY:REAL MADRID x MILAN (CHAMPIONS)
DESCRIPTION:We are waiting for you at Black Sheep to experience the excitement of the Champions League match between REAL MADRID x MILAN. Enjoy a unique experience\, full of football passion in our cozy venue.
URL:https://ovellanegraramblas.com/en/evento/real-madrid-x-milan-champions/
LOCATION:Oveja Negra Ramblas\, Calle de Sitges\, 5\, Barcelona\, Barcelona\, 08001
CATEGORIES:Televised sporting events
ORGANIZER;CN="Oveja Negra Ramblas":MAILTO:comunicacio@ovellanegra.com
END:VEVENT
BEGIN:VEVENT
DTSTART;TZID=Europe/Paris:20241026T210000
DTEND;TZID=Europe/Paris:20241026T230000
DTSTAMP:20260419T234248
CREATED:20241020T085536Z
LAST-MODIFIED:20241020T085536Z
UID:1850-1729976400-1729983600@ovellanegraramblas.com
SUMMARY:REAL MADRID x BARÇA (LEAGUE)
DESCRIPTION:The excitement of the League continues in The Black Sheep! Don’t miss the vibrant match between Real Madrid vs Barça. We invite you to live every moment of this football battle in an atmosphere full of passion. Join us for an unforgettable experience!
URL:https://ovellanegraramblas.com/en/evento/real-madrid-x-barca-league/
LOCATION:Oveja Negra Ramblas\, Calle de Sitges\, 5\, Barcelona\, Barcelona\, 08001
ORGANIZER;CN="Oveja Negra Ramblas":MAILTO:comunicacio@ovellanegra.com
END:VEVENT
BEGIN:VEVENT
DTSTART;TZID=Europe/Paris:20241023T210000
DTEND;TZID=Europe/Paris:20241023T230000
DTSTAMP:20260419T234248
CREATED:20241020T085902Z
LAST-MODIFIED:20241020T085902Z
UID:1856-1729717200-1729724400@ovellanegraramblas.com
SUMMARY:BARÇA x BAYERN MUNICH (CHAMPIONS LEAGUE)
DESCRIPTION:The excitement of the League continues in The Black Sheep! Don’t miss the vibrant match between Barça vs Bayern Munich. We invite you to live every moment of this football battle in an atmosphere full of passion. Join us for an unforgettable experience!
URL:https://ovellanegraramblas.com/en/evento/barca-x-bayern-munich-champions-league/
LOCATION:Oveja Negra Ramblas\, Calle de Sitges\, 5\, Barcelona\, Barcelona\, 08001
CATEGORIES:Televised sporting events
ORGANIZER;CN="Oveja Negra Ramblas":MAILTO:comunicacio@ovellanegra.com
END:VEVENT
BEGIN:VEVENT
DTSTART;TZID=Europe/Paris:20241023T210000
DTEND;TZID=Europe/Paris:20241023T230000
DTSTAMP:20260419T234248
CREATED:20241020T085229Z
LAST-MODIFIED:20241020T085422Z
UID:1847-1729717200-1729724400@ovellanegraramblas.com
SUMMARY:BARÇA x SEVILLA (LEAGUE)
DESCRIPTION:The excitement of the League continues in The Black Sheep! Don’t miss the vibrant match between Barça vs Sevilla. We invite you to live every moment of this football battle in an atmosphere full of passion. Join us for an unforgettable experience!
URL:https://ovellanegraramblas.com/en/evento/barca-x-sevilla-league/
LOCATION:Oveja Negra Ramblas\, Calle de Sitges\, 5\, Barcelona\, Barcelona\, 08001
CATEGORIES:Televised sporting events
ORGANIZER;CN="Oveja Negra Ramblas":MAILTO:comunicacio@ovellanegra.com
END:VEVENT
BEGIN:VEVENT
DTSTART;TZID=Europe/Paris:20241022T210000
DTEND;TZID=Europe/Paris:20241022T230000
DTSTAMP:20260419T234248
CREATED:20241020T085723Z
LAST-MODIFIED:20241020T085723Z
UID:1853-1729630800-1729638000@ovellanegraramblas.com
SUMMARY:REAL MADRID x BORUSSIA DORTMUND (CHAMPIONS LEAGUE)
DESCRIPTION:The excitement of the League continues in The Black Sheep! Don’t miss the vibrant match between Real Madrid vs Borussia Dortmund. We invite you to live every moment of this football battle in an atmosphere full of passion. Join us for an unforgettable experience!
URL:https://ovellanegraramblas.com/en/evento/real-madrid-x-borussia-dortmund-champions-league/
LOCATION:Oveja Negra Ramblas\, Calle de Sitges\, 5\, Barcelona\, Barcelona\, 08001
CATEGORIES:Televised sporting events
ORGANIZER;CN="Oveja Negra Ramblas":MAILTO:comunicacio@ovellanegra.com
END:VEVENT
BEGIN:VEVENT
DTSTART;TZID=Europe/Paris:20241002T210000
DTEND;TZID=Europe/Paris:20241002T230000
DTSTAMP:20260419T234248
CREATED:20240915T221136Z
LAST-MODIFIED:20240915T221136Z
UID:1814-1727902800-1727910000@ovellanegraramblas.com
SUMMARY:LOSC x REAL MADRID (CHAMPIONS)
DESCRIPTION:We are waiting for you at Black Sheep to experience the excitement of the Champions League match between LOSC x REAL MADRID. Enjoy a unique experience\, full of football passion in our cozy venue.
URL:https://ovellanegraramblas.com/en/evento/losc-x-real-madrid-champions/
LOCATION:Oveja Negra Ramblas\, Calle de Sitges\, 5\, Barcelona\, Barcelona\, 08001
ORGANIZER;CN="Oveja Negra Ramblas":MAILTO:comunicacio@ovellanegra.com
END:VEVENT
BEGIN:VEVENT
DTSTART;TZID=Europe/Paris:20241002T210000
DTEND;TZID=Europe/Paris:20241002T230000
DTSTAMP:20260419T234248
CREATED:20240915T220047Z
LAST-MODIFIED:20240915T221853Z
UID:1799-1727902800-1727910000@ovellanegraramblas.com
SUMMARY:REAL MADRID x STUTTGART (CHAMPIONS)
DESCRIPTION:We are waiting for you at Black Sheep to experience the excitement of the Champions League match between REAL MADRID x STUTTGART. Enjoy a unique experience\, full of football passion in our cozy venue.
URL:https://ovellanegraramblas.com/en/evento/real-madrid-x-stuttgart-champions/
LOCATION:Oveja Negra Ramblas\, Calle de Sitges\, 5\, Barcelona\, Barcelona\, 08001
CATEGORIES:Televised sporting events
ORGANIZER;CN="Oveja Negra Ramblas":MAILTO:comunicacio@ovellanegra.com
END:VEVENT
BEGIN:VEVENT
DTSTART;TZID=Europe/Paris:20241001T210000
DTEND;TZID=Europe/Paris:20241001T230000
DTSTAMP:20260419T234248
CREATED:20240915T221003Z
LAST-MODIFIED:20240915T221003Z
UID:1811-1727816400-1727823600@ovellanegraramblas.com
SUMMARY:BARÇA x BSC YOUNG BOYS (CHAMPIONS)
DESCRIPTION:We are waiting for you at Black Sheep to experience the excitement of the Champions League match between BARÇA x BSC YOUNG BOYS. Enjoy a unique experience\, full of football passion in our cozy venue.
URL:https://ovellanegraramblas.com/en/evento/barca-x-bsc-young-boys-champions/
LOCATION:Oveja Negra Ramblas\, Calle de Sitges\, 5\, Barcelona\, Barcelona\, 08001
CATEGORIES:Televised sporting events
ORGANIZER;CN="Oveja Negra Ramblas":MAILTO:comunicacio@ovellanegra.com
END:VEVENT
BEGIN:VEVENT
DTSTART;TZID=Europe/Paris:20240925T210000
DTEND;TZID=Europe/Paris:20240925T230000
DTSTAMP:20260419T234248
CREATED:20240915T220845Z
LAST-MODIFIED:20240915T220845Z
UID:1808-1727298000-1727305200@ovellanegraramblas.com
SUMMARY:BARÇA x GETAFE (LEAGUE)
DESCRIPTION:The excitement of the League continues in The Black Sheep! Don’t miss the vibrant match between Barça vs Getafe. We invite you to live every moment of this football battle in an atmosphere full of passion. Join us for an unforgettable experience!
URL:https://ovellanegraramblas.com/en/evento/barca-x-getafe-league/
LOCATION:Oveja Negra Ramblas\, Calle de Sitges\, 5\, Barcelona\, Barcelona\, 08001
CATEGORIES:Televised sporting events
ORGANIZER;CN="Oveja Negra Ramblas":MAILTO:comunicacio@ovellanegra.com
END:VEVENT
BEGIN:VEVENT
DTSTART;TZID=Europe/Paris:20240922T183000
DTEND;TZID=Europe/Paris:20240922T203000
DTSTAMP:20260419T234248
CREATED:20240915T220729Z
LAST-MODIFIED:20240915T220729Z
UID:1805-1727029800-1727037000@ovellanegraramblas.com
SUMMARY:VILLARREAL x BARÇA (LEAGUE)
DESCRIPTION:The excitement of the League continues in The Black Sheep! Don’t miss the vibrant match between Villarreal vs Barça. We invite you to live every moment of this football battle in an atmosphere full of passion. Join us for an unforgettable experience!
URL:https://ovellanegraramblas.com/en/evento/villarreal-x-barca-league/
LOCATION:Oveja Negra Ramblas\, Calle de Sitges\, 5\, Barcelona\, Barcelona\, 08001
CATEGORIES:Televised sporting events
ORGANIZER;CN="Oveja Negra Ramblas":MAILTO:comunicacio@ovellanegra.com
END:VEVENT
BEGIN:VEVENT
DTSTART;TZID=Europe/Paris:20240919T210000
DTEND;TZID=Europe/Paris:20240919T230000
DTSTAMP:20260419T234248
CREATED:20240915T220439Z
LAST-MODIFIED:20240915T220439Z
UID:1802-1726779600-1726786800@ovellanegraramblas.com
SUMMARY:MONACO x BARÇA (CHAMPIONS)
DESCRIPTION:We are waiting for you at Black Sheep to experience the excitement of the Champions League match between MONACO x BARÇA. Enjoy a unique experience\, full of football passion in our cozy venue.
URL:https://ovellanegraramblas.com/en/evento/monaco-x-barca-champions/
LOCATION:Oveja Negra Ramblas\, Calle de Sitges\, 5\, Barcelona\, Barcelona\, 08001
CATEGORIES:Televised sporting events
ORGANIZER;CN="Oveja Negra Ramblas":MAILTO:comunicacio@ovellanegra.com
END:VEVENT
BEGIN:VEVENT
DTSTART;TZID=Europe/Paris:20240702T210000
DTEND;TZID=Europe/Paris:20240702T230000
DTSTAMP:20260419T234248
CREATED:20240627T143427Z
LAST-MODIFIED:20240627T143528Z
UID:1726-1719954000-1719961200@ovellanegraramblas.com
SUMMARY:AUSTRIA x TURKEY (EUROCUP)
DESCRIPTION:The excitement of the Eurocup in The Black Sheep! Don’t miss the vibrant match between Austria and Turkey. We invite you to live every moment of this football battle in an atmosphere full of passion. Join us for an unforgettable experience!
URL:https://ovellanegraramblas.com/en/evento/austria-x-turkey-eurocup/
LOCATION:Barcelona
CATEGORIES:Televised sporting events
END:VEVENT
BEGIN:VEVENT
DTSTART;TZID=Europe/Paris:20240702T180000
DTEND;TZID=Europe/Paris:20240702T200000
DTSTAMP:20260419T234248
CREATED:20240627T143259Z
LAST-MODIFIED:20240627T143259Z
UID:1723-1719943200-1719950400@ovellanegraramblas.com
SUMMARY:HOLLAND x ROMANIA (EUROCUP)
DESCRIPTION:The excitement of the Eurocup in The Black Sheep! Don’t miss the vibrant match between Holland and Romania. We invite you to live every moment of this football battle in an atmosphere full of passion. Join us for an unforgettable experience!
URL:https://ovellanegraramblas.com/en/evento/holland-x-romania-eurocup/
LOCATION:Oveja Negra Ramblas\, Calle de Sitges\, 5\, Barcelona\, Barcelona\, 08001
CATEGORIES:Televised sporting events
ORGANIZER;CN="Oveja Negra Ramblas":MAILTO:comunicacio@ovellanegra.com
END:VEVENT
END:VCALENDAR