BEGIN:VCALENDAR
VERSION:2.0
PRODID:-//Oveja Negra Ramblas - ECPv6.15.20//NONSGML v1.0//EN
CALSCALE:GREGORIAN
METHOD:PUBLISH
X-WR-CALNAME:Oveja Negra Ramblas
X-ORIGINAL-URL:https://ovellanegraramblas.com/en/
X-WR-CALDESC:Events for Oveja Negra Ramblas
REFRESH-INTERVAL;VALUE=DURATION:PT1H
X-Robots-Tag:noindex
X-PUBLISHED-TTL:PT1H
BEGIN:VTIMEZONE
TZID:Europe/Paris
BEGIN:DAYLIGHT
TZOFFSETFROM:+0100
TZOFFSETTO:+0200
TZNAME:CEST
DTSTART:20240331T010000
END:DAYLIGHT
BEGIN:STANDARD
TZOFFSETFROM:+0200
TZOFFSETTO:+0100
TZNAME:CET
DTSTART:20241027T010000
END:STANDARD
BEGIN:DAYLIGHT
TZOFFSETFROM:+0100
TZOFFSETTO:+0200
TZNAME:CEST
DTSTART:20250330T010000
END:DAYLIGHT
BEGIN:STANDARD
TZOFFSETFROM:+0200
TZOFFSETTO:+0100
TZNAME:CET
DTSTART:20251026T010000
END:STANDARD
BEGIN:DAYLIGHT
TZOFFSETFROM:+0100
TZOFFSETTO:+0200
TZNAME:CEST
DTSTART:20260329T010000
END:DAYLIGHT
BEGIN:STANDARD
TZOFFSETFROM:+0200
TZOFFSETTO:+0100
TZNAME:CET
DTSTART:20261025T010000
END:STANDARD
BEGIN:DAYLIGHT
TZOFFSETFROM:+0100
TZOFFSETTO:+0200
TZNAME:CEST
DTSTART:20270328T010000
END:DAYLIGHT
BEGIN:STANDARD
TZOFFSETFROM:+0200
TZOFFSETTO:+0100
TZNAME:CET
DTSTART:20271031T010000
END:STANDARD
END:VTIMEZONE
BEGIN:VEVENT
DTSTART;TZID=Europe/Paris:20251202T210000
DTEND;TZID=Europe/Paris:20251202T230000
DTSTAMP:20260421T155535
CREATED:20250429T104037Z
LAST-MODIFIED:20251108T133822Z
UID:2452-1764709200-1764716400@ovellanegraramblas.com
SUMMARY:BARÇA VS ATLETICO MADRID (LEAGUE)
DESCRIPTION:The excitement of The Liga at La Oveja Negra! Don’t miss the thrilling match between BARÇA VS ATLETICO MADRID. We invite you to experience every moment of this football battle in a passionate atmosphere. Join us for an unforgettable experience!
URL:https://ovellanegraramblas.com/en/evento/valladolid-vs-barca-liga/
LOCATION:Oveja Negra Ramblas\, Calle de Sitges\, 5\, Barcelona\, Barcelona\, 08001
CATEGORIES:Televised sporting events
END:VEVENT
BEGIN:VEVENT
DTSTART;TZID=Europe/Paris:20251206T183000
DTEND;TZID=Europe/Paris:20251206T203000
DTSTAMP:20260421T155535
CREATED:20250514T121032Z
LAST-MODIFIED:20251108T134034Z
UID:2484-1765045800-1765053000@ovellanegraramblas.com
SUMMARY:BETIS VS BARÇA (LEAGUE)
DESCRIPTION:The excitement of The Liga at La Oveja Negra! Don’t miss the thrilling match between  BETIS VS BARÇA. We invite you to experience every moment of this football battle in a passionate atmosphere. Join us for an unforgettable experience!
URL:https://ovellanegraramblas.com/en/evento/barca-vs-espanyol-liga/
LOCATION:Oveja Negra Ramblas\, Calle de Sitges\, 5\, Barcelona\, Barcelona\, 08001
CATEGORIES:Televised sporting events
END:VEVENT
BEGIN:VEVENT
DTSTART;TZID=Europe/Paris:20251210T210000
DTEND;TZID=Europe/Paris:20251210T230000
DTSTAMP:20260421T155535
CREATED:20250429T104136Z
LAST-MODIFIED:20251108T134414Z
UID:2455-1765400400-1765407600@ovellanegraramblas.com
SUMMARY:REAL MADRID VS MANCHESTER CITY  (CHAMPIONS)
DESCRIPTION:The excitement of The Champions at La Oveja Negra! Don’t miss the thrilling match between  REAL MADRID VS MANCHESTER CITY. We invite you to experience every moment of this football battle in a passionate atmosphere. Join us for an unforgettable experience
URL:https://ovellanegraramblas.com/en/evento/inter-milan-vs-barca-champions/
LOCATION:Oveja Negra Ramblas\, Calle de Sitges\, 5\, Barcelona\, Barcelona\, 08001
CATEGORIES:Televised sporting events
ORGANIZER;CN="Oveja Negra Ramblas":MAILTO:comunicacio@ovellanegra.com
END:VEVENT
BEGIN:VEVENT
DTSTART;TZID=Europe/Paris:20251231T170000
DTEND;TZID=Europe/Paris:20260107T023000
DTSTAMP:20260421T155535
CREATED:20251231T141403Z
LAST-MODIFIED:20251231T141403Z
UID:2796-1767200400-1767753000@ovellanegraramblas.com
SUMMARY:SPECIAL CHRISTMAS HOURS
DESCRIPTION:MIERCOLES 24/12     DE 17\,00H    A  20\,30H — DE  23\,30H   A  03\,00H \nJUEVES 25/12             DE  20\,00H   A  03\,00H \nVIERNES 26/12           DE  20\,00H   A  03\,00H \nMIERCOLES 31/12     DE 17\,00H    A  20\,30H — DE  00\,30H   A  04\,30H \nJUEVES 01/01             DE  20\,00H   A  02\,30H \nMARTES 06/01           DE  20\,00H   A  02\,30H
URL:https://ovellanegraramblas.com/en/evento/special-christmas-hours/
CATEGORIES:Televised sporting events
END:VEVENT
END:VCALENDAR