BEGIN:VCALENDAR
VERSION:2.0
PRODID:-//Oveja Negra Ramblas - ECPv6.15.20//NONSGML v1.0//EN
CALSCALE:GREGORIAN
METHOD:PUBLISH
X-WR-CALNAME:Oveja Negra Ramblas
X-ORIGINAL-URL:https://ovellanegraramblas.com/en/
X-WR-CALDESC:Events for Oveja Negra Ramblas
REFRESH-INTERVAL;VALUE=DURATION:PT1H
X-Robots-Tag:noindex
X-PUBLISHED-TTL:PT1H
BEGIN:VTIMEZONE
TZID:Europe/Paris
BEGIN:DAYLIGHT
TZOFFSETFROM:+0100
TZOFFSETTO:+0200
TZNAME:CEST
DTSTART:20230326T010000
END:DAYLIGHT
BEGIN:STANDARD
TZOFFSETFROM:+0200
TZOFFSETTO:+0100
TZNAME:CET
DTSTART:20231029T010000
END:STANDARD
BEGIN:DAYLIGHT
TZOFFSETFROM:+0100
TZOFFSETTO:+0200
TZNAME:CEST
DTSTART:20240331T010000
END:DAYLIGHT
BEGIN:STANDARD
TZOFFSETFROM:+0200
TZOFFSETTO:+0100
TZNAME:CET
DTSTART:20241027T010000
END:STANDARD
BEGIN:DAYLIGHT
TZOFFSETFROM:+0100
TZOFFSETTO:+0200
TZNAME:CEST
DTSTART:20250330T010000
END:DAYLIGHT
BEGIN:STANDARD
TZOFFSETFROM:+0200
TZOFFSETTO:+0100
TZNAME:CET
DTSTART:20251026T010000
END:STANDARD
END:VTIMEZONE
BEGIN:VEVENT
DTSTART;TZID=Europe/Paris:20240620T180000
DTEND;TZID=Europe/Paris:20240620T200000
DTSTAMP:20260421T154057
CREATED:20240619T190603Z
LAST-MODIFIED:20240619T190603Z
UID:1608-1718906400-1718913600@ovellanegraramblas.com
SUMMARY:Denmark x England (Eurocup)
DESCRIPTION:The excitement of the Eurocup in The Black Sheep! Don’t miss the vibrant match between Denmark and England. We invite you to live every moment of this football battle in an atmosphere full of passion. Join us for an unforgettable experience!
URL:https://ovellanegraramblas.com/en/evento/denmark-x-england-eurocup/
CATEGORIES:Televised sporting events
END:VEVENT
BEGIN:VEVENT
DTSTART;TZID=Europe/Paris:20240620T210000
DTEND;TZID=Europe/Paris:20240620T230000
DTSTAMP:20260421T154057
CREATED:20240619T190743Z
LAST-MODIFIED:20240619T190743Z
UID:1611-1718917200-1718924400@ovellanegraramblas.com
SUMMARY:Spain x Italy (Eurocup)
DESCRIPTION:The excitement of the Eurocup in The Black Sheep! Don’t miss the vibrant match between Spain and Italy. We invite you to live every moment of this football battle in an atmosphere full of passion. Join us for an unforgettable experience!
URL:https://ovellanegraramblas.com/en/evento/spain-x-italy-eurocup/
CATEGORIES:Televised sporting events
END:VEVENT
BEGIN:VEVENT
DTSTART;TZID=Europe/Paris:20240621T210000
DTEND;TZID=Europe/Paris:20240621T230000
DTSTAMP:20260421T154057
CREATED:20240619T190917Z
LAST-MODIFIED:20240619T190917Z
UID:1614-1719003600-1719010800@ovellanegraramblas.com
SUMMARY:Netherlands x France (Eurocup)
DESCRIPTION:The excitement of the Eurocup in The Black Sheep! Don’t miss the vibrant match between Netherlands and France. We invite you to live every moment of this football battle in an atmosphere full of passion. Join us for an unforgettable experience!
URL:https://ovellanegraramblas.com/en/evento/netherlands-x-france-eurocup/
CATEGORIES:Televised sporting events
END:VEVENT
BEGIN:VEVENT
DTSTART;TZID=Europe/Paris:20240622T180000
DTEND;TZID=Europe/Paris:20240622T200000
DTSTAMP:20260421T154057
CREATED:20240619T191041Z
LAST-MODIFIED:20240619T191041Z
UID:1617-1719079200-1719086400@ovellanegraramblas.com
SUMMARY:Turkey x Portugal (Eurocup)
DESCRIPTION:The excitement of the Eurocup in The Black Sheep! Don’t miss the vibrant match between Turkey and Portugal. We invite you to live every moment of this football battle in an atmosphere full of passion. Join us for an unforgettable experience!
URL:https://ovellanegraramblas.com/en/evento/turkey-x-portugal-eurocup/
CATEGORIES:Televised sporting events
END:VEVENT
BEGIN:VEVENT
DTSTART;TZID=Europe/Paris:20240624T210000
DTEND;TZID=Europe/Paris:20240624T230000
DTSTAMP:20260421T154057
CREATED:20240619T191224Z
LAST-MODIFIED:20240619T191224Z
UID:1620-1719262800-1719270000@ovellanegraramblas.com
SUMMARY:Albania x Spain (Eurocup)
DESCRIPTION:The excitement of the Eurocup in The Black Sheep! Don’t miss the vibrant match between Albania x Spain. We invite you to live every moment of this football battle in an atmosphere full of passion. Join us for an unforgettable experience!
URL:https://ovellanegraramblas.com/en/evento/albania-x-spain-eurocup/
CATEGORIES:Televised sporting events
END:VEVENT
BEGIN:VEVENT
DTSTART;TZID=Europe/Paris:20240625T180000
DTEND;TZID=Europe/Paris:20240625T200000
DTSTAMP:20260421T154057
CREATED:20240619T191442Z
LAST-MODIFIED:20240619T191442Z
UID:1623-1719338400-1719345600@ovellanegraramblas.com
SUMMARY:FRANCE x POLAND (EUROCUP)
DESCRIPTION:The excitement of the Eurocup in The Black Sheep! Don’t miss the vibrant match between France and Poland. We invite you to live every moment of this football battle in an atmosphere full of passion. Join us for an unforgettable experience!
URL:https://ovellanegraramblas.com/en/evento/france-x-poland-eurocup/
CATEGORIES:Televised sporting events
END:VEVENT
BEGIN:VEVENT
DTSTART;TZID=Europe/Paris:20240625T210000
DTEND;TZID=Europe/Paris:20240625T230000
DTSTAMP:20260421T154057
CREATED:20240619T191621Z
LAST-MODIFIED:20240619T191621Z
UID:1626-1719349200-1719356400@ovellanegraramblas.com
SUMMARY:ENGLAND x SLOVENIA (Eurocup)
DESCRIPTION:The excitement of the Eurocup in The Black Sheep! Don’t miss the vibrant match between England and Slovenia. We invite you to live every moment of this football battle in an atmosphere full of passion. Join us for an unforgettable experience!
URL:https://ovellanegraramblas.com/en/evento/england-x-slovenia-eurocup/
CATEGORIES:Televised sporting events
END:VEVENT
BEGIN:VEVENT
DTSTART;TZID=Europe/Paris:20240626T210000
DTEND;TZID=Europe/Paris:20240626T230000
DTSTAMP:20260421T154057
CREATED:20240619T191836Z
LAST-MODIFIED:20240619T191836Z
UID:1629-1719435600-1719442800@ovellanegraramblas.com
SUMMARY:Portugal x Georgia (Eurocup)
DESCRIPTION:The excitement of the Eurocup in The Black Sheep! Don’t miss the vibrant match between Portugal and Georgia. We invite you to live every moment of this football battle in an atmosphere full of passion. Join us for an unforgettable experience!
URL:https://ovellanegraramblas.com/en/evento/portugal-x-georgia-eurocup/
CATEGORIES:Televised sporting events
END:VEVENT
BEGIN:VEVENT
DTSTART;TZID=Europe/Paris:20240629T180000
DTEND;TZID=Europe/Paris:20240629T200000
DTSTAMP:20260421T154057
CREATED:20240627T142426Z
LAST-MODIFIED:20240627T142426Z
UID:1705-1719684000-1719691200@ovellanegraramblas.com
SUMMARY:SWISS x ITALY (EUROCUP)
DESCRIPTION:The excitement of the Eurocup in The Black Sheep! Don’t miss the vibrant match between Swiss and Italy. We invite you to live every moment of this football battle in an atmosphere full of passion. Join us for an unforgettable experience!
URL:https://ovellanegraramblas.com/en/evento/swiss-x-italy-eurocup/
LOCATION:Oveja Negra Ramblas\, Calle de Sitges\, 5\, Barcelona\, Barcelona\, 08001
CATEGORIES:Televised sporting events
ORGANIZER;CN="Oveja Negra Ramblas":MAILTO:comunicacio@ovellanegra.com
END:VEVENT
BEGIN:VEVENT
DTSTART;TZID=Europe/Paris:20240629T210000
DTEND;TZID=Europe/Paris:20240629T230000
DTSTAMP:20260421T154057
CREATED:20240627T135751Z
LAST-MODIFIED:20240627T141725Z
UID:1688-1719694800-1719702000@ovellanegraramblas.com
SUMMARY:GERMANY x DENMARK (EUROCUP)
DESCRIPTION:The excitement of the Eurocup in The Black Sheep! Don’t miss the vibrant match between Germany and Denmark. We invite you to live every moment of this football battle in an atmosphere full of passion. Join us for an unforgettable experience!
URL:https://ovellanegraramblas.com/en/evento/germany-x-denmark-eurocup/
LOCATION:Oveja Negra Ramblas\, Calle de Sitges\, 5\, Barcelona\, Barcelona\, 08001
ORGANIZER;CN="Oveja Negra Ramblas":MAILTO:comunicacio@ovellanegra.com
END:VEVENT
BEGIN:VEVENT
DTSTART;TZID=Europe/Paris:20240629T210000
DTEND;TZID=Europe/Paris:20240629T230000
DTSTAMP:20260421T154057
CREATED:20240627T142605Z
LAST-MODIFIED:20240627T142605Z
UID:1708-1719694800-1719702000@ovellanegraramblas.com
SUMMARY:GERMANY x DENMARK (EUROCUP)
DESCRIPTION:The excitement of the Eurocup in The Black Sheep! Don’t miss the vibrant match between Germany and Denmark. We invite you to live every moment of this football battle in an atmosphere full of passion. Join us for an unforgettable experience!
URL:https://ovellanegraramblas.com/en/evento/germany-x-denmark-eurocup-2/
LOCATION:Oveja Negra Ramblas\, Calle de Sitges\, 5\, Barcelona\, Barcelona\, 08001
CATEGORIES:Televised sporting events
ORGANIZER;CN="Oveja Negra Ramblas":MAILTO:comunicacio@ovellanegra.com
END:VEVENT
BEGIN:VEVENT
DTSTART;TZID=Europe/Paris:20240630T180000
DTEND;TZID=Europe/Paris:20240630T200000
DTSTAMP:20260421T154057
CREATED:20240627T135950Z
LAST-MODIFIED:20240627T141615Z
UID:1691-1719770400-1719777600@ovellanegraramblas.com
SUMMARY:ENGLAND x SLOVAKIA (EUROCUP)
DESCRIPTION:The excitement of the Eurocup in The Black Sheep! Don’t miss the vibrant match between England and Slovakia. We invite you to live every moment of this football battle in an atmosphere full of passion. Join us for an unforgettable experience!
URL:https://ovellanegraramblas.com/en/evento/england-x-slovakia-eurocup/
LOCATION:Oveja Negra Ramblas\, Calle de Sitges\, 5\, Barcelona\, Barcelona\, 08001
ORGANIZER;CN="Oveja Negra Ramblas":MAILTO:comunicacio@ovellanegra.com
END:VEVENT
BEGIN:VEVENT
DTSTART;TZID=Europe/Paris:20240630T180000
DTEND;TZID=Europe/Paris:20240630T200000
DTSTAMP:20260421T154057
CREATED:20240627T142737Z
LAST-MODIFIED:20240627T142737Z
UID:1711-1719770400-1719777600@ovellanegraramblas.com
SUMMARY:ENGLAND x SLOVAKIA (EUROCUP)
DESCRIPTION:The excitement of the Eurocup in The Black Sheep! Don’t miss the vibrant match between England and Slovakia. We invite you to live every moment of this football battle in an atmosphere full of passion. Join us for an unforgettable experience!
URL:https://ovellanegraramblas.com/en/evento/england-x-slovakia-eurocup-2/
LOCATION:Oveja Negra Ramblas\, Calle de Sitges\, 5\, Barcelona\, Barcelona\, 08001
CATEGORIES:Televised sporting events
ORGANIZER;CN="Oveja Negra Ramblas":MAILTO:comunicacio@ovellanegra.com
END:VEVENT
BEGIN:VEVENT
DTSTART;TZID=Europe/Paris:20240630T210000
DTEND;TZID=Europe/Paris:20240630T230000
DTSTAMP:20260421T154057
CREATED:20240627T140217Z
LAST-MODIFIED:20240627T140952Z
UID:1694-1719781200-1719788400@ovellanegraramblas.com
SUMMARY:SPAIN x GEORGIA (EUROCUP)
DESCRIPTION:The excitement of the Eurocup in The Black Sheep! Don’t miss the vibrant match between Spain and Georgia. We invite you to live every moment of this football battle in an atmosphere full of passion. Join us for an unforgettable experience!
URL:https://ovellanegraramblas.com/en/evento/spain-x-georgia-eurocup/
LOCATION:Oveja Negra Ramblas\, Calle de Sitges\, 5\, Barcelona\, Barcelona\, 08001
ORGANIZER;CN="Oveja Negra Ramblas":MAILTO:comunicacio@ovellanegra.com
END:VEVENT
BEGIN:VEVENT
DTSTART;TZID=Europe/Paris:20240630T210000
DTEND;TZID=Europe/Paris:20240630T230000
DTSTAMP:20260421T154057
CREATED:20240627T142851Z
LAST-MODIFIED:20240627T142851Z
UID:1714-1719781200-1719788400@ovellanegraramblas.com
SUMMARY:SPAIN x GEORGIA (EUROCUP)
DESCRIPTION:The excitement of the Eurocup in The Black Sheep! Don’t miss the vibrant match between Spain and Georgia. We invite you to live every moment of this football battle in an atmosphere full of passion. Join us for an unforgettable experience!
URL:https://ovellanegraramblas.com/en/evento/spain-x-georgia-eurocup-2/
LOCATION:Oveja Negra Ramblas\, Calle de Sitges\, 5\, Barcelona\, Barcelona\, 08001
CATEGORIES:Televised sporting events
ORGANIZER;CN="Oveja Negra Ramblas":MAILTO:comunicacio@ovellanegra.com
END:VEVENT
END:VCALENDAR