BEGIN:VCALENDAR
VERSION:2.0
PRODID:-//Oveja Negra Ramblas - ECPv6.15.20//NONSGML v1.0//EN
CALSCALE:GREGORIAN
METHOD:PUBLISH
X-ORIGINAL-URL:https://ovellanegraramblas.com/en/
X-WR-CALDESC:Events for Oveja Negra Ramblas
REFRESH-INTERVAL;VALUE=DURATION:PT1H
X-Robots-Tag:noindex
X-PUBLISHED-TTL:PT1H
BEGIN:VTIMEZONE
TZID:Europe/Paris
BEGIN:DAYLIGHT
TZOFFSETFROM:+0100
TZOFFSETTO:+0200
TZNAME:CEST
DTSTART:20230326T010000
END:DAYLIGHT
BEGIN:STANDARD
TZOFFSETFROM:+0200
TZOFFSETTO:+0100
TZNAME:CET
DTSTART:20231029T010000
END:STANDARD
BEGIN:DAYLIGHT
TZOFFSETFROM:+0100
TZOFFSETTO:+0200
TZNAME:CEST
DTSTART:20240331T010000
END:DAYLIGHT
BEGIN:STANDARD
TZOFFSETFROM:+0200
TZOFFSETTO:+0100
TZNAME:CET
DTSTART:20241027T010000
END:STANDARD
BEGIN:DAYLIGHT
TZOFFSETFROM:+0100
TZOFFSETTO:+0200
TZNAME:CEST
DTSTART:20250330T010000
END:DAYLIGHT
BEGIN:STANDARD
TZOFFSETFROM:+0200
TZOFFSETTO:+0100
TZNAME:CET
DTSTART:20251026T010000
END:STANDARD
END:VTIMEZONE
BEGIN:VEVENT
DTSTART;TZID=Europe/Paris:20240701T180000
DTEND;TZID=Europe/Paris:20240701T200000
DTSTAMP:20260421T154623
CREATED:20240627T143012Z
LAST-MODIFIED:20240627T143012Z
UID:1717-1719856800-1719864000@ovellanegraramblas.com
SUMMARY:FRANCE x BELGIUM (EUROCUP)
DESCRIPTION:The excitement of the Eurocup in The Black Sheep! Don’t miss the vibrant match between France and Belgium. We invite you to live every moment of this football battle in an atmosphere full of passion. Join us for an unforgettable experience!
URL:https://ovellanegraramblas.com/en/evento/france-x-belgium-eurocup/
LOCATION:Oveja Negra Ramblas\, Calle de Sitges\, 5\, Barcelona\, Barcelona\, 08001
CATEGORIES:Televised sporting events
ORGANIZER;CN="Oveja Negra Ramblas":MAILTO:comunicacio@ovellanegra.com
END:VEVENT
BEGIN:VEVENT
DTSTART;TZID=Europe/Paris:20240701T210000
DTEND;TZID=Europe/Paris:20240701T230000
DTSTAMP:20260421T154623
CREATED:20240627T143119Z
LAST-MODIFIED:20240627T143622Z
UID:1720-1719867600-1719874800@ovellanegraramblas.com
SUMMARY:PORTUGAL x SLOVENIA (EUROCUP)
DESCRIPTION:The excitement of the Eurocup in The Black Sheep! Don’t miss the vibrant match between Portugal and Slovenia. We invite you to live every moment of this football battle in an atmosphere full of passion. Join us for an unforgettable experience!
URL:https://ovellanegraramblas.com/en/evento/portugal-x-slovenia-eurocup/
LOCATION:Oveja Negra Ramblas\, Calle de Sitges\, 5\, Barcelona\, Barcelona\, 08001
CATEGORIES:Televised sporting events
ORGANIZER;CN="Oveja Negra Ramblas":MAILTO:comunicacio@ovellanegra.com
END:VEVENT
END:VCALENDAR